BEGIN:VCALENDAR
VERSION:2.0
PRODID:-//Újkígyós város weboldala - ECPv6.10.1//NONSGML v1.0//EN
CALSCALE:GREGORIAN
METHOD:PUBLISH
X-ORIGINAL-URL:https://ujkigyos.hu
X-WR-CALDESC:Events for Újkígyós város weboldala
REFRESH-INTERVAL;VALUE=DURATION:PT1H
X-Robots-Tag:noindex
X-PUBLISHED-TTL:PT1H
BEGIN:VTIMEZONE
TZID:Europe/Paris
BEGIN:DAYLIGHT
TZOFFSETFROM:+0100
TZOFFSETTO:+0200
TZNAME:CEST
DTSTART:20250330T010000
END:DAYLIGHT
BEGIN:STANDARD
TZOFFSETFROM:+0200
TZOFFSETTO:+0100
TZNAME:CET
DTSTART:20251026T010000
END:STANDARD
END:VTIMEZONE
BEGIN:VEVENT
DTSTART;TZID=Europe/Paris:20250406T113000
DTEND;TZID=Europe/Paris:20250406T140000
DTSTAMP:20260424T172224
CREATED:20250401T082110Z
LAST-MODIFIED:20250401T082238Z
UID:10469-1743939000-1743948000@ujkigyos.hu
SUMMARY:Szent Imre Panzió nyílt napja
DESCRIPTION:
URL:https://ujkigyos.hu/esemeny/szent-imre-panzio-nyilt-napja/
LOCATION:Szent Imre Panzió\, Iskola u 7\, Újkígyós\, 5661\, Hungary
ATTACH;FMTTYPE=image/jpeg:https://ujkigyos.hu/wp-content/uploads/2021/01/ujkdef.jpg
END:VEVENT
END:VCALENDAR