BEGIN:VCALENDAR
VERSION:2.0
PRODID:-//Újkígyós város weboldala - ECPv6.10.1//NONSGML v1.0//EN
CALSCALE:GREGORIAN
METHOD:PUBLISH
X-ORIGINAL-URL:https://ujkigyos.hu
X-WR-CALDESC:Events for Újkígyós város weboldala
REFRESH-INTERVAL;VALUE=DURATION:PT1H
X-Robots-Tag:noindex
X-PUBLISHED-TTL:PT1H
BEGIN:VTIMEZONE
TZID:Europe/Paris
BEGIN:DAYLIGHT
TZOFFSETFROM:+0100
TZOFFSETTO:+0200
TZNAME:CEST
DTSTART:20250330T010000
END:DAYLIGHT
BEGIN:STANDARD
TZOFFSETFROM:+0200
TZOFFSETTO:+0100
TZNAME:CET
DTSTART:20251026T010000
END:STANDARD
END:VTIMEZONE
BEGIN:VEVENT
DTSTART;TZID=Europe/Paris:20250411T180000
DTEND;TZID=Europe/Paris:20250411T210000
DTSTAMP:20260424T172223
CREATED:20250405T191127Z
LAST-MODIFIED:20250417T150910Z
UID:10491-1744394400-1744405200@ujkigyos.hu
SUMMARY:Költészet Napja – Ünnepi Est és Közösségi Verselés
DESCRIPTION:Április 11-én\, pénteken 18 órától a Petőfi Sándor Művelődési Ház ad otthont Újkígyós költészet napi rendezvényének. A program során a verskedvelők egy igazán tartalmas estére számíthatnak. \nAz eseményen elsőként a helyi általános iskola díjazott versmondói lépnek színpadra\, majd a „Szabad a színpad” keretében bárki előadhatja kedvenc versét – ehhez előzetes regisztráció szükséges. A közönség aktív részvételére is számítanak\, hiszen a „Vers karaoke” során mindenki kérheti saját kedvenc versét\, amelyet kivetítőn is követni lehet. \nAz estet a PÁRTA BANDA citerazenekar fellépése zárja\, akik hagyományos hangzással teszik teljessé az irodalom ünnepét. \nA rendezvény mindenki számára nyitott és ingyenesen látogatható. A szervezők szeretettel várnak mindenkit\, aki szívesen töltené ezt az estét versek és közös élmények társaságában. \n 
URL:https://ujkigyos.hu/esemeny/kolteszet-napja-unnepi-est-es-kozossegi-verseles/
LOCATION:Petőfi Sándor Művelődési Ház\, Arany János u. 42.\, Újkígyós\, 5661\, Hungary
ATTACH;FMTTYPE=image/png:https://ujkigyos.hu/wp-content/uploads/2025/04/kolteszet.png
END:VEVENT
END:VCALENDAR