BEGIN:VCALENDAR
VERSION:2.0
PRODID:-//Újkígyós város weboldala - ECPv6.10.1//NONSGML v1.0//EN
CALSCALE:GREGORIAN
METHOD:PUBLISH
X-WR-CALNAME:Újkígyós város weboldala
X-ORIGINAL-URL:https://ujkigyos.hu
X-WR-CALDESC:Events for Újkígyós város weboldala
REFRESH-INTERVAL;VALUE=DURATION:PT1H
X-Robots-Tag:noindex
X-PUBLISHED-TTL:PT1H
BEGIN:VTIMEZONE
TZID:Europe/Paris
BEGIN:DAYLIGHT
TZOFFSETFROM:+0100
TZOFFSETTO:+0200
TZNAME:CEST
DTSTART:20250330T010000
END:DAYLIGHT
BEGIN:STANDARD
TZOFFSETFROM:+0200
TZOFFSETTO:+0100
TZNAME:CET
DTSTART:20251026T010000
END:STANDARD
END:VTIMEZONE
BEGIN:VEVENT
DTSTART;VALUE=DATE:20250421
DTEND;VALUE=DATE:20250422
DTSTAMP:20260424T172140
CREATED:20250224T093548Z
LAST-MODIFIED:20250428T140346Z
UID:10298-1745193600-1745279999@ujkigyos.hu
SUMMARY:Hagyományos húsvéti locsolkodás a Galiba Néptáncegyüttessel
DESCRIPTION:Újraéledő Hagyományaink – Hagyományos húsvéti locsolkodás a Galiba Néptáncegyüttessel \nA Néptáncegyüttes tagjai lovaskocsira ülve\, vizesödrökkel fölszerelkezve\,\nházról házra járják végig a lányokat és elevenítik föl a régi húsvéti vizes locsolkodás szokását
URL:https://ujkigyos.hu/esemeny/hagyomanyos-husveti-locsolkodas-a-galiba-neptancegyuttessel/
LOCATION:Békés
ATTACH;FMTTYPE=image/png:https://ujkigyos.hu/wp-content/uploads/2025/02/Husvet.png
ORGANIZER;CN="'%C3%96sszefog%C3%A1s %C3%9Ajk%C3%ADgy%C3%B3s%C3%A9rt' K%C3%B6zhaszn%C3%BA Egyes%C3%BClet":MAILTO:osszefogasujkigyosert2008@gmail.com
END:VEVENT
END:VCALENDAR