BEGIN:VCALENDAR
VERSION:2.0
PRODID:-//Újkígyós város weboldala - ECPv6.10.1//NONSGML v1.0//EN
CALSCALE:GREGORIAN
METHOD:PUBLISH
X-WR-CALNAME:Újkígyós város weboldala
X-ORIGINAL-URL:https://ujkigyos.hu
X-WR-CALDESC:Events for Újkígyós város weboldala
REFRESH-INTERVAL;VALUE=DURATION:PT1H
X-Robots-Tag:noindex
X-PUBLISHED-TTL:PT1H
BEGIN:VTIMEZONE
TZID:Europe/Paris
BEGIN:DAYLIGHT
TZOFFSETFROM:+0100
TZOFFSETTO:+0200
TZNAME:CEST
DTSTART:20250330T010000
END:DAYLIGHT
BEGIN:STANDARD
TZOFFSETFROM:+0200
TZOFFSETTO:+0100
TZNAME:CET
DTSTART:20251026T010000
END:STANDARD
END:VTIMEZONE
BEGIN:VEVENT
DTSTART;VALUE=DATE:20250530
DTEND;VALUE=DATE:20250531
DTSTAMP:20260424T143453
CREATED:20250224T093901Z
LAST-MODIFIED:20250224T093901Z
UID:10305-1748563200-1748649599@ujkigyos.hu
SUMMARY:Aszakkör kiállítás megnyitó
DESCRIPTION:Újraéledő Hagyományaink – Aszakkör kiállítás megnyitó \nAz “Összefogás Újkígyósért” Közhasznú Egyesület és a Múltidéző Egyesület szakköreinek megnyitója. 2024-ben kapcsolódott mindkét egyesület a Nemzeti Művelődési Intézet programjához\, ezzel négy hagyományos kézműves tevékenység indult el a városban: Baba-mama horgolás\, Bútorfestő szakkör\, Gyöngyfűzés és Kosárfonás. A szakkörök elkészült termékeiből szervez akét egyesület egy közös kiállítást.
URL:https://ujkigyos.hu/esemeny/aszakkor-kiallitas-megnyito/
LOCATION:Újkígyósi Petőfi Sándor Könyvtár\, Arany János u. 47\, Újkígyós\, 5661\, Hungary
ATTACH;FMTTYPE=image/jpeg:https://ujkigyos.hu/wp-content/uploads/2021/01/ujkdef.jpg
ORGANIZER;CN="'%C3%96sszefog%C3%A1s %C3%9Ajk%C3%ADgy%C3%B3s%C3%A9rt' K%C3%B6zhaszn%C3%BA Egyes%C3%BClet":MAILTO:osszefogasujkigyosert2008@gmail.com
END:VEVENT
END:VCALENDAR