BEGIN:VCALENDAR
VERSION:2.0
PRODID:-//Újkígyós város weboldala - ECPv6.10.1//NONSGML v1.0//EN
CALSCALE:GREGORIAN
METHOD:PUBLISH
X-WR-CALNAME:Újkígyós város weboldala
X-ORIGINAL-URL:https://ujkigyos.hu
X-WR-CALDESC:Events for Újkígyós város weboldala
REFRESH-INTERVAL;VALUE=DURATION:PT1H
X-Robots-Tag:noindex
X-PUBLISHED-TTL:PT1H
BEGIN:VTIMEZONE
TZID:Europe/Paris
BEGIN:DAYLIGHT
TZOFFSETFROM:+0100
TZOFFSETTO:+0200
TZNAME:CEST
DTSTART:20250330T010000
END:DAYLIGHT
BEGIN:STANDARD
TZOFFSETFROM:+0200
TZOFFSETTO:+0100
TZNAME:CET
DTSTART:20251026T010000
END:STANDARD
END:VTIMEZONE
BEGIN:VEVENT
DTSTART;TZID=Europe/Paris:20250802T090000
DTEND;TZID=Europe/Paris:20250802T230000
DTSTAMP:20260424T115048
CREATED:20250623T083654Z
LAST-MODIFIED:20250814T121054Z
UID:10635-1754125200-1754175600@ujkigyos.hu
SUMMARY:Motoros Nap - 2025.08.02.
DESCRIPTION:IX. Újkígyósi Motoros Nap programja \n2025. augusztus 2. \nAz Újkígyósi Szelíd motorosok és a Viharsarok AMSE szervezésével. \nÚjkígyós\, Gyulai út Piac tér. \n9:00 kapunyitás \nEbéd 12 órától \, regisztrált motorosoknak ebéddel kedveskedünk\, \n12:30 rövid interjú Mentőmotor Alapítvány tagjaival műsorvezető közreműködésével \nÜgyességi versenyek: 13:00 motorblokk hajítás\, 13:00 lassúsági verseny\, \nKipufogó hangnyomás mérés\, az első kb. 11:00 majd a következő13:30. \nKRESZ park\, játékos bemutató\, Tóbiás és Balambér. \nKeressük a legmesszebbről jött külföldi\, belföldi motorost és a legidősebb motorost. \n15 órakor motoros felvonulás a város utcáin\, zenekar indulót játszik\, erre indulunk felvonulni. \n16:00 támogató tombolasorsolás\, értéke darabonként 15-20000 Ft (3-4 db). \n15:50 Mentő Motor Alapítvány bemutatása \n16:05 Streetfighter bemutató (Herczeg Tamás Mókus). \n Helyszín a Gyulai út Jókai-Árpád utca közti szakasza a Magyar Közút hozzájárulásával. \n17:30 Reláció zenekar rock koncertje. \nRészvétel ingyenes\, nem csak motorosoknak. \n Köszönjük a támogatást! \nVáltoztatás jogát fenntartjuk. \n \n 
URL:https://ujkigyos.hu/esemeny/motoros-nap/
LOCATION:Gyulai úti Piac tér\, Gyulai út 24.\, Újkígyós\, 5661\, Hungary
ATTACH;FMTTYPE=image/jpeg:https://ujkigyos.hu/wp-content/uploads/2025/06/ponyva2025.jpg
END:VEVENT
END:VCALENDAR