BEGIN:VCALENDAR
VERSION:2.0
PRODID:-//Újkígyós város weboldala - ECPv6.10.1//NONSGML v1.0//EN
CALSCALE:GREGORIAN
METHOD:PUBLISH
X-ORIGINAL-URL:https://ujkigyos.hu
X-WR-CALDESC:Events for Újkígyós város weboldala
REFRESH-INTERVAL;VALUE=DURATION:PT1H
X-Robots-Tag:noindex
X-PUBLISHED-TTL:PT1H
BEGIN:VTIMEZONE
TZID:Europe/Paris
BEGIN:DAYLIGHT
TZOFFSETFROM:+0100
TZOFFSETTO:+0200
TZNAME:CEST
DTSTART:20250330T010000
END:DAYLIGHT
BEGIN:STANDARD
TZOFFSETFROM:+0200
TZOFFSETTO:+0100
TZNAME:CET
DTSTART:20251026T010000
END:STANDARD
END:VTIMEZONE
BEGIN:VEVENT
DTSTART;VALUE=DATE:20250819
DTEND;VALUE=DATE:20250821
DTSTAMP:20260424T115405
CREATED:20250814T121001Z
LAST-MODIFIED:20250903T081725Z
UID:10694-1755561600-1755734399@ujkigyos.hu
SUMMARY:ÚJKÍGYÓSI VÁROSNAPOK – 2025. augusztus 19–20.
DESCRIPTION:Kedves Újkígyósiak és Vendégeink!\nSzeretettel hívjuk és várjuk Önöket a kétnapos Városnapi rendezvényünkre\, amely idén is számos színes programmal\, élő zenével és közös ünnepléssel vár mindenkit!\n\n\n Augusztus 19. – KEDD\n Petőfi Sándor Művelődési Ház melletti Wenkcheim park\n• 19:00 – HAJRÁ Trió koncert\n• 20:30 – KOVÁCS KATI élő koncert\n• 22:00 – RETRO DISCO hajnalig\n Büfét a Park Étterem biztosítja\n\n\n Augusztus 20. – SZERDA\n• 09:00 – Ünnepi szentmise a Szűz Mária Szent Neve Katolikus Templomban\n• 10:00 – Ünnepség a Cz. Kiss Rendezvényházban\n• Köszöntőt mond: Oláh Timót\, polgármester\n• Ünnepi szónok: Domokos László\, díszpolgár\n• Kitüntetések átadása: Újkígyós Díszpolgára és Újkígyósért\n• Kenyérszentelés – Ilyés Zsolt plébános\n• Közreműködik a Tengelic Énekegyüttes\n\n\n A programok díjmentesek!\n Töltsük együtt ezeket a napokat zenével\, jókedvvel és közösségi élményekkel!
URL:https://ujkigyos.hu/esemeny/ujkigyosi-varosnapok-2025-augusztus-19-20/
LOCATION:Petőfi Sándor Művelődési Ház\, Arany János u. 42.\, Újkígyós\, 5661\, Hungary
ATTACH;FMTTYPE=image/jpeg:https://ujkigyos.hu/wp-content/uploads/2021/01/ujkdef.jpg
END:VEVENT
END:VCALENDAR