BEGIN:VCALENDAR
VERSION:2.0
PRODID:-//Újkígyós város weboldala - ECPv6.10.1//NONSGML v1.0//EN
CALSCALE:GREGORIAN
METHOD:PUBLISH
X-WR-CALNAME:Újkígyós város weboldala
X-ORIGINAL-URL:https://ujkigyos.hu
X-WR-CALDESC:Events for Újkígyós város weboldala
REFRESH-INTERVAL;VALUE=DURATION:PT1H
X-Robots-Tag:noindex
X-PUBLISHED-TTL:PT1H
BEGIN:VTIMEZONE
TZID:Europe/Paris
BEGIN:DAYLIGHT
TZOFFSETFROM:+0100
TZOFFSETTO:+0200
TZNAME:CEST
DTSTART:20250330T010000
END:DAYLIGHT
BEGIN:STANDARD
TZOFFSETFROM:+0200
TZOFFSETTO:+0100
TZNAME:CET
DTSTART:20251026T010000
END:STANDARD
END:VTIMEZONE
BEGIN:VEVENT
DTSTART;VALUE=DATE:20250914
DTEND;VALUE=DATE:20250915
DTSTAMP:20260424T103904
CREATED:20250910T110330Z
LAST-MODIFIED:20250910T110330Z
UID:10728-1757808000-1757894399@ujkigyos.hu
SUMMARY:Mária-napi búcsú és kirakodóvásár Újkígyóson
DESCRIPTION:Szeretettel várunk mindenkit a hagyományos Mária-napi búcsúi kirakodóvásárra 2025. szeptember 14-én\, vasárnap! \nA vásári forgatagban árusok sokasága\, finomságok és kézműves portékák várják a látogatókat\, a gyerekeknek pedig a megszokott módon vidámpark üzemel majd a Piactér zöldterületén (Gyulai út 655. hrsz.). \nA rendezvény idején a Gyulai út az Arany János utca és az Ady Endre utca között lezárásra kerül\, így a vásár zavartalanul tud zajlani. \n👉 Jegyezzék fel a dátumot\, és jöjjenek el családdal\, barátokkal – töltsünk együtt egy vidám\, közösségi napot!
URL:https://ujkigyos.hu/esemeny/maria-napi-bucsu-es-kirakodovasar-ujkigyoson/
LOCATION:Gyulai úti Piac tér\, Gyulai út 24.\, Újkígyós\, 5661\, Hungary
ATTACH;FMTTYPE=image/jpeg:https://ujkigyos.hu/wp-content/uploads/2021/01/ujkdef.jpg
END:VEVENT
END:VCALENDAR