BEGIN:VCALENDAR
VERSION:2.0
PRODID:-//Újkígyós város weboldala - ECPv6.10.1//NONSGML v1.0//EN
CALSCALE:GREGORIAN
METHOD:PUBLISH
X-WR-CALNAME:Újkígyós város weboldala
X-ORIGINAL-URL:https://ujkigyos.hu
X-WR-CALDESC:Events for Újkígyós város weboldala
REFRESH-INTERVAL;VALUE=DURATION:PT1H
X-Robots-Tag:noindex
X-PUBLISHED-TTL:PT1H
BEGIN:VTIMEZONE
TZID:Europe/Paris
BEGIN:DAYLIGHT
TZOFFSETFROM:+0100
TZOFFSETTO:+0200
TZNAME:CEST
DTSTART:20250330T010000
END:DAYLIGHT
BEGIN:STANDARD
TZOFFSETFROM:+0200
TZOFFSETTO:+0100
TZNAME:CET
DTSTART:20251026T010000
END:STANDARD
END:VTIMEZONE
BEGIN:VEVENT
DTSTART;TZID=Europe/Paris:20251005T100000
DTEND;TZID=Europe/Paris:20251005T170000
DTSTAMP:20260424T091140
CREATED:20250224T091313Z
LAST-MODIFIED:20250224T091528Z
UID:10268-1759658400-1759683600@ujkigyos.hu
SUMMARY:Idősek Világnapja
DESCRIPTION:Ez az esemény az Újkígyósi Nyugdíjasok Érdekvédelmi Egyesülete\, az “Ezüstág” Gondozási Központ és Újkígyós Város Önkormányzatának közös szervezésében valósul meg
URL:https://ujkigyos.hu/esemeny/idosek-vilagnapja/
LOCATION:Soproni Söröző és Étterem\, Gyulai út 51\, Újkígyós\, 5661\, Hungary
ATTACH;FMTTYPE=image/jpeg:https://ujkigyos.hu/wp-content/uploads/2025/02/Idosek-vilagnapja_20251005.jpg
END:VEVENT
END:VCALENDAR