BEGIN:VCALENDAR
VERSION:2.0
PRODID:-//Újkígyós város weboldala - ECPv6.10.1//NONSGML v1.0//EN
CALSCALE:GREGORIAN
METHOD:PUBLISH
X-ORIGINAL-URL:https://ujkigyos.hu
X-WR-CALDESC:Events for Újkígyós város weboldala
REFRESH-INTERVAL;VALUE=DURATION:PT1H
X-Robots-Tag:noindex
X-PUBLISHED-TTL:PT1H
BEGIN:VTIMEZONE
TZID:Europe/Paris
BEGIN:DAYLIGHT
TZOFFSETFROM:+0100
TZOFFSETTO:+0200
TZNAME:CEST
DTSTART:20250330T010000
END:DAYLIGHT
BEGIN:STANDARD
TZOFFSETFROM:+0200
TZOFFSETTO:+0100
TZNAME:CET
DTSTART:20251026T010000
END:STANDARD
END:VTIMEZONE
BEGIN:VEVENT
DTSTART;TZID=Europe/Paris:20251011T170000
DTEND;TZID=Europe/Paris:20251011T180000
DTSTAMP:20260424T092011
CREATED:20251006T115421Z
LAST-MODIFIED:20251006T120754Z
UID:10832-1760202000-1760205600@ujkigyos.hu
SUMMARY:Férfi MBII-es kézilabda mérkőzés
DESCRIPTION:2025. október 11-én a FISE férfi felnőtt kézilabda csapata a Berettyóújfalu ellen lép pályára.
URL:https://ujkigyos.hu/esemeny/ferfi-mbii-es-kezilabda-merkozes/
LOCATION:Felföldi István Sportcsarnok
ATTACH;FMTTYPE=image/jpeg:https://ujkigyos.hu/wp-content/uploads/2025/10/ferfifelnottcsapatkezi.jpg
END:VEVENT
BEGIN:VEVENT
DTSTART;TZID=Europe/Paris:20251011T170000
DTEND;TZID=Europe/Paris:20251011T190000
DTSTAMP:20260424T092011
CREATED:20250929T120835Z
LAST-MODIFIED:20251003T122244Z
UID:10794-1760202000-1760209200@ujkigyos.hu
SUMMARY:A Concerto Budapest előadása a Cz. Kiss Rendezvényházban
DESCRIPTION:A Concerto Budapest kamaraegyüttesei a Petőfi Kulturális Program keretében Mozart Planet koncertsorozattal járják be az országot. \n„Hisszük\, hogy a klasszikus zene nem kiváltság\, hanem közös kincs – ez a meggyőződés vezérel minket akkor is\, amikor a Petőfi Kulturális Program keretében 50 koncerttel viszi el a Concerto Budapest a klasszikus zene élményét olyan helyszínekre – kistelepülésekre\, kisvárosokba – ahol élő klasszikus zenei előadás ritkán hallható.” – fogalmazta meg Devich Gábor\, a zenekar főigazgatója. \nA Mozart Planet programsorozat megálmodója Keller András\, Kossuth-díjas hegedűművész\, karmester\, a Zenekar főzeneigazgatója. A koncertsorozat küldetése\, hogy a Concerto Budapest az ország minél több településére eljuttassa a harmóniát és felüdülést nyújtó dallamokat. Olyan helyekre is\, ahol ritkán hallgatnak klasszikus zenét. A Mozart Planet-koncertek alkalmat adnak a helyi közösség építésére is. Zaklatott világunkban egyre nagyobb szükség van a jóság és a biztonság érzésére\, és zenéje végtelen táplálékot ad a szeretetnek\, hisz a programsorozat névadója Mozart az összes létező emberi érzelmet és karaktert a legegyszerűbben és a legcsodálatosabban tudta kifejezni a hangjaival. A muzsika mindenkit megérint\, életörömet sugároz\, és boldoggá tesz. A „Mozart-bolygón” ebből a tiszta zenéből fakad az élet\, és ha ezt akár csak egy órára átéli a koncertek közönsége\, már kicsit jobb hellyé válhat számukra a világ. \nIdén a Mozart Planet koncertek nagy része a Petőfi Kulturális Program támogatásával valósulnak meg. \n \n 
URL:https://ujkigyos.hu/esemeny/a-concerto-budapest-eloadasa-a-cz-kiss-rendezvenyhazban/
LOCATION:Békés
ATTACH;FMTTYPE=image/jpeg:https://ujkigyos.hu/wp-content/uploads/2025/09/ConcertoBudapestkep.jpg
END:VEVENT
END:VCALENDAR