BEGIN:VCALENDAR
VERSION:2.0
PRODID:-//Újkígyós város weboldala - ECPv6.10.1//NONSGML v1.0//EN
CALSCALE:GREGORIAN
METHOD:PUBLISH
X-ORIGINAL-URL:https://ujkigyos.hu
X-WR-CALDESC:Events for Újkígyós város weboldala
REFRESH-INTERVAL;VALUE=DURATION:PT1H
X-Robots-Tag:noindex
X-PUBLISHED-TTL:PT1H
BEGIN:VTIMEZONE
TZID:Europe/Paris
BEGIN:DAYLIGHT
TZOFFSETFROM:+0100
TZOFFSETTO:+0200
TZNAME:CEST
DTSTART:20250330T010000
END:DAYLIGHT
BEGIN:STANDARD
TZOFFSETFROM:+0200
TZOFFSETTO:+0100
TZNAME:CET
DTSTART:20251026T010000
END:STANDARD
END:VTIMEZONE
BEGIN:VEVENT
DTSTART;TZID=Europe/Paris:20251014T080000
DTEND;TZID=Europe/Paris:20251014T170000
DTSTAMP:20260424T091252
CREATED:20251014T115551Z
LAST-MODIFIED:20251020T122139Z
UID:10876-1760428800-1760461200@ujkigyos.hu
SUMMARY:VIII. Amatőr Alkotók kiállítása
DESCRIPTION:Az „Összefogás Újkígyósért” Közhasznú Egyesület  szeretettel vár mindenkit a VIII. Amatőr Alkotók kiállításának megnyitójára\, amely 2025. október 19-én (vasárnap) 15:00 órakor kerül megrendezésre az Újkígyósi Petőfi Sándor Művelődési Ház nagytermében (5661 Újkígyós\, Arany János u. 42.). \nA „Vizuális gondolatok” című esemény célja\, hogy bemutassa helyi és diák alkotók munkáit\, és lehetőséget adjon a közösség tagjainak a találkozásra\, beszélgetésre és inspirációra. \nProgram: \nKöszöntőt mond: Nagy Tiborné\, az Egyesület elnöke \nMűsor: Kovács–Kolarovszki Dóra népdalénekes előadása \nMegnyitó beszédet tart: Mészáros Zsuzsanna múzeumpedagógus \nZárásként: állófogadás és kötetlen beszélgetés az alkotókkal \nKiállító alkotók: \nBirta Miklósné (Miklós Amália)\, Domokos Jánosné (Felföldi Györgyi)\, Harangozó Marianna\, Horváthné Erdélyi Erzsébet\, Nagy Szilvia\, Szűcs Istvánné (Nagy Etelka)\, valamint két diák: Kiss Dóra és Nagy Boglárka. \nA rendezvény mottója Henry Ward Beecher gondolata: \n„Minden művész saját lelkébe mártja ecsetét\, és saját szívét viszi a vászonra.” \nA szervezők szeretettel várnak minden érdeklődőt egy kellemes\, közösségi délutánra. \nlt
URL:https://ujkigyos.hu/esemeny/viii-amator-alkotok-kiallitasa/
LOCATION:Petőfi Sándor Művelődési Ház\, Arany János u. 42.\, Újkígyós\, 5661\, Hungary
ATTACH;FMTTYPE=image/jpeg:https://ujkigyos.hu/wp-content/uploads/2025/10/amator.jpg
ORGANIZER;CN="'%C3%96sszefog%C3%A1s %C3%9Ajk%C3%ADgy%C3%B3s%C3%A9rt' K%C3%B6zhaszn%C3%BA Egyes%C3%BClet":MAILTO:osszefogasujkigyosert2008@gmail.com
END:VEVENT
END:VCALENDAR