BEGIN:VCALENDAR
VERSION:2.0
PRODID:-//Újkígyós város weboldala - ECPv6.10.1//NONSGML v1.0//EN
CALSCALE:GREGORIAN
METHOD:PUBLISH
X-ORIGINAL-URL:https://ujkigyos.hu
X-WR-CALDESC:Events for Újkígyós város weboldala
REFRESH-INTERVAL;VALUE=DURATION:PT1H
X-Robots-Tag:noindex
X-PUBLISHED-TTL:PT1H
BEGIN:VTIMEZONE
TZID:Europe/Paris
BEGIN:DAYLIGHT
TZOFFSETFROM:+0100
TZOFFSETTO:+0200
TZNAME:CEST
DTSTART:20250330T010000
END:DAYLIGHT
BEGIN:STANDARD
TZOFFSETFROM:+0200
TZOFFSETTO:+0100
TZNAME:CET
DTSTART:20251026T010000
END:STANDARD
END:VTIMEZONE
BEGIN:VEVENT
DTSTART;TZID=Europe/Paris:20251025T170000
DTEND;TZID=Europe/Paris:20251025T190000
DTSTAMP:20260424T091307
CREATED:20251015T090009Z
LAST-MODIFIED:20251029T093659Z
UID:10900-1761411600-1761418800@ujkigyos.hu
SUMMARY:„Táncos magyarok” – A Magyar Állami Népi Együttes előadása
DESCRIPTION:Szeretettel várjuk a kedves érdeklődőket a Magyar Állami Népi Együttes nagyszabású műsorára\, melyre 2025. október 25-én\, szombaton 17 órakor kerül sor a Cz. Kiss Rendezvényházban (5661 Újkígyós\, Petőfi utca 40.). \nA Magyar Állami Népi Együttes Táncos magyarok című előadása egy korokon és határokon átívelő utazás\, melynek során a Kárpát-medence magyarsága és a vele sorsközösségben élő nemzetiségek folklórjából merítkezve táncolják körbe a történelmi Magyarországot. \nA produkciót követően alkalom nyílik belekóstolni a látottakba\, a Magyar Állami Népi Együttes közös táncházzal várja a leglelkesebbeket! \nA rendezvény a Petőfi Kulturális Program Magyarország Kormánya támogatásával\, a kultúrstratégiai intézmények együttműködésében\, a Nemzeti Művelődési Intézet koordinációjával\, és a Nemzeti Táncszínház szervezésében valósul meg. \nBelépőjegy ára: 2000 Ft
URL:https://ujkigyos.hu/esemeny/tancos-magyarok-a-magyar-allami-nepi-egyuttes-eloadasa/
LOCATION:Cz. Kiss Rendezvényház
ATTACH;FMTTYPE=image/jpeg:https://ujkigyos.hu/wp-content/uploads/2025/10/nepi-egyuttes-kep.jpg
END:VEVENT
END:VCALENDAR