BEGIN:VCALENDAR
VERSION:2.0
PRODID:-//Újkígyós város weboldala - ECPv6.10.1//NONSGML v1.0//EN
CALSCALE:GREGORIAN
METHOD:PUBLISH
X-ORIGINAL-URL:https://ujkigyos.hu
X-WR-CALDESC:Events for Újkígyós város weboldala
REFRESH-INTERVAL;VALUE=DURATION:PT1H
X-Robots-Tag:noindex
X-PUBLISHED-TTL:PT1H
BEGIN:VTIMEZONE
TZID:Europe/Paris
BEGIN:DAYLIGHT
TZOFFSETFROM:+0100
TZOFFSETTO:+0200
TZNAME:CEST
DTSTART:20250330T010000
END:DAYLIGHT
BEGIN:STANDARD
TZOFFSETFROM:+0200
TZOFFSETTO:+0100
TZNAME:CET
DTSTART:20251026T010000
END:STANDARD
END:VTIMEZONE
BEGIN:VEVENT
DTSTART;TZID=Europe/Paris:20251114T080000
DTEND;TZID=Europe/Paris:20251114T110000
DTSTAMP:20260424T075701
CREATED:20251105T122040Z
LAST-MODIFIED:20251117T150812Z
UID:10964-1763107200-1763118000@ujkigyos.hu
SUMMARY:Véradás Újkígyóson – Adj vért\, adj életet!
DESCRIPTION:Véradás Újkígyóson – Adj vért\, adj életet! \nA Magyar Vöröskereszt Újkígyósi Szervezete és az Országos Vérellátó Szolgálat vár minden segíteni vágyót az Újkígyósi Művelődési Házban  véradásra! \n🩸Időpont:  2025. november 14. (péntek) \n🕗 8:00 – 11:00 \n📍 Helyszín:  Újkígyósi Művelődési Ház \nAmit feltétlenül hozz magaddal: \n* személyi igazolvány \n* lakcímkártya \n* TAJ-kártya \n👉 Fontos!  Véradás előtt mindenképpen étkezz és fogyassz bőségesen folyadékot! \nAdj Te is esélyt az életre – egy véradással akár három ember életét is megmentheted! \nCsatlakozz a véradók közösségéhez\, és adományozz egészséget! \nSzervező:  Magyar Vöröskereszt \nSzakmai partner:  Országos Vérellátó Szolgálat
URL:https://ujkigyos.hu/esemeny/veradas-ujkigyoson-adj-vert-adj-eletet/
LOCATION:Petőfi Sándor Művelődési Ház\, Arany János u. 42.\, Újkígyós\, 5661\, Hungary
ATTACH;FMTTYPE=image/jpeg:https://ujkigyos.hu/wp-content/uploads/2025/11/images.jpg
END:VEVENT
END:VCALENDAR