BEGIN:VCALENDAR
VERSION:2.0
PRODID:-//Újkígyós város weboldala - ECPv6.10.1//NONSGML v1.0//EN
CALSCALE:GREGORIAN
METHOD:PUBLISH
X-ORIGINAL-URL:https://ujkigyos.hu
X-WR-CALDESC:Events for Újkígyós város weboldala
REFRESH-INTERVAL;VALUE=DURATION:PT1H
X-Robots-Tag:noindex
X-PUBLISHED-TTL:PT1H
BEGIN:VTIMEZONE
TZID:Europe/Paris
BEGIN:DAYLIGHT
TZOFFSETFROM:+0100
TZOFFSETTO:+0200
TZNAME:CEST
DTSTART:20250330T010000
END:DAYLIGHT
BEGIN:STANDARD
TZOFFSETFROM:+0200
TZOFFSETTO:+0100
TZNAME:CET
DTSTART:20251026T010000
END:STANDARD
END:VTIMEZONE
BEGIN:VEVENT
DTSTART;TZID=Europe/Paris:20251129T093000
DTEND;TZID=Europe/Paris:20251129T093000
DTSTAMP:20260424T064002
CREATED:20251112T143504Z
LAST-MODIFIED:20251112T143653Z
UID:10982-1764408600-1764408600@ujkigyos.hu
SUMMARY:Mikulásváró Családi Nap
DESCRIPTION:🎅 Mikulásváró Családi Nap Újkígyóson! 🎄 \nAz Újkígyósi Nagycsaládosok Közhasznú Egyesülete szeretettel vár mindenkit egy vidám\, ünnepi hangulatú Mikulásváró családi napra\, amelyre 2025. november 29-én\, szombaton kerül sor a Petőfi Sándor Művelődési Házban. \nA program 9:30-kor gyülekezővel indul\, majd  10 órától Szélpál Szilveszter és Fülöp Dániel szórakoztató gyerekműsorával folytatódik. \n10:30-tól karácsonyi kézműves foglalkozás  várja a kicsiket és nagyokat\, ahol mindenki elkészítheti saját ünnepi díszeit. \nA nap során rengeteg meglepetésben lehet része a résztvevőknek – és természetesen a Mikulás is ellátogat az eseményre! 🎁 \nA szervezők szeretettel várják Újkígyós lakosságát egy közös\, örömteli ünnepvárásra! \n \n 
URL:https://ujkigyos.hu/esemeny/mikulasvaro-csaladi-nap/
LOCATION:Petőfi Sándor Művelődési Ház\, Arany János u. 42.\, Újkígyós\, 5661\, Hungary
ATTACH;FMTTYPE=image/jpeg:https://ujkigyos.hu/wp-content/uploads/2025/11/image_50431489-scaled.jpg
ORGANIZER;CN="%C3%9Ajk%C3%ADgy%C3%B3si Nagycsal%C3%A1dosok K%C3%B6zhaszn%C3%BA Egyes%C3%BClete":MAILTO:szebelledi.zoltan@bekesmegye.hu
END:VEVENT
BEGIN:VEVENT
DTSTART;TZID=Europe/Paris:20251129T130000
DTEND;TZID=Europe/Paris:20251129T140000
DTSTAMP:20260424T064002
CREATED:20251105T131326Z
LAST-MODIFIED:20251105T131420Z
UID:10976-1764421200-1764424800@ujkigyos.hu
SUMMARY:Újkígyós FC - Tótkomlósi Tc focimeccs
DESCRIPTION:Az Újkígyós FC játszik a Tótkomlósi Tc ellen. \nBereczki Zsolt edző értékelése: \nElsőnek is\, szeretném megköszönni a vezetőségnek\, hogy megkeresett azzal\, hogy vállaljam el a csapat irányítását. Már akkor éreztem\, hogy hisznek és bíznak bennem\, és utólag is úgy gondolom\, jó döntés volt igent mondani. A keret nagy részét ismertem már korábbról\, így nem volt ismeretlen közeg. \nA szezon eddigi részében volt több olyan mérkőzés\, ahol kötelező lett volna a győzelem\, mégis csak döntetlen vagy vereség lett a vége. Ezek a pontok a végén nagyon sokat fognak számítani. A támadójátékunkkal ennek ellenére elégedett vagyok\, hiszen egyetlen meccs kivételével minden találkozón betaláltunk\, ami mindenképp pozitívum. A legnagyobb hiányosságunk jelenleg a védekezésben van\, ebben csapatszinten kell sokat fejlődnünk. Egyelőre nem vagyunk elég egységesek\, de dolgozunk rajta\, hogy ez megváltozzon. Sok meccs van még hátra\, pontosan tudjuk\, min kell javítanunk\, és azon leszünk\, hogy minél előrébb végezzünk a tabellán. \n 
URL:https://ujkigyos.hu/esemeny/ujkigyos-fc-totkomlosi-tc-focimeccs/
LOCATION:Sportpálya\, Kossuth utca 2\, Újkígyós\, 5661\, Hungary
ATTACH;FMTTYPE=image/jpeg:https://ujkigyos.hu/wp-content/uploads/2025/11/IMG_7625-scaled.jpeg
END:VEVENT
BEGIN:VEVENT
DTSTART;TZID=Europe/Paris:20251129T170000
DTEND;TZID=Europe/Paris:20251129T170000
DTSTAMP:20260424T064002
CREATED:20251105T104608Z
LAST-MODIFIED:20251105T104826Z
UID:10958-1764435600-1764435600@ujkigyos.hu
SUMMARY:Fénykeresők – Karácsonyi mese a fény születéséről
DESCRIPTION:Fénykeresők – Karácsonyi mese a fény születéséről \nAz ünnepvárás meghitt hangulatát idén is különleges adventi gálaműsorral idézik meg az újkígyósi népművészeti csoportok.\nA Galiba Néptáncegyüttes\, a Párta Banda és a Zsibavirág Énekegyüttes közös előadása\, a „Fénykeresők – Karácsonyi mese a fény születéséről” című műsor 2025. november 29-én\, szombaton 17 órakor kerül bemutatásra az Újkígyósi Szűz Mária Szent Neve Katolikus Templomban. \nA Gyulai Erkel Ferenc Alapfokú Művészeti Iskola újkígyósi népművészeti csoportjai által színpadra vitt történet a fény\, a remény és az összetartozás erejét idézi meg népmesei formában\, tánccal\, zenével és énekkel átszőve.\nA műsorban közreműködik Soós Emőke mesemondó és Kovács-Kolarovszki Dóra énekművész. \nA rendezvény házigazdája az „Összefogás Újkígyósért” Közhasznú Egyesület és a Galiba Néptáncegyüttes.\nMinden érdeklődőt szeretettel várnak erre a lélekemelő adventi estére\, ahol a népművészet varázsa és a karácsonyi fény üzenete találkozik.
URL:https://ujkigyos.hu/esemeny/fenykeresok-karacsonyi-mese-a-feny-szuleteserol/
LOCATION:Szűz Mária Szent Neve Katolikus Templom
ATTACH;FMTTYPE=image/jpeg:https://ujkigyos.hu/wp-content/uploads/2025/11/kep-cikkhez3.jpg
ORGANIZER;CN="'%C3%96sszefog%C3%A1s %C3%9Ajk%C3%ADgy%C3%B3s%C3%A9rt' K%C3%B6zhaszn%C3%BA Egyes%C3%BClet":MAILTO:osszefogasujkigyosert2008@gmail.com
END:VEVENT
BEGIN:VEVENT
DTSTART;TZID=Europe/Paris:20251129T170000
DTEND;TZID=Europe/Paris:20251129T180000
DTSTAMP:20260424T064002
CREATED:20251006T121049Z
LAST-MODIFIED:20251006T121049Z
UID:10842-1764435600-1764439200@ujkigyos.hu
SUMMARY:Férfi MBII-es kézilabda mérkőzés
DESCRIPTION:A FISE férfi felnőtt kézilabda csapata a Tisza Volán Szeged ellen lép pályára.
URL:https://ujkigyos.hu/esemeny/ferfi-mbii-es-kezilabda-merkozes-3/
LOCATION:Felföldi István Sportcsarnok
ATTACH;FMTTYPE=image/jpeg:https://ujkigyos.hu/wp-content/uploads/2025/10/ferfifelnottcsapatkezi-1.jpg
END:VEVENT
END:VCALENDAR