BEGIN:VCALENDAR
VERSION:2.0
PRODID:-//Újkígyós város weboldala - ECPv6.10.1//NONSGML v1.0//EN
CALSCALE:GREGORIAN
METHOD:PUBLISH
X-WR-CALNAME:Újkígyós város weboldala
X-ORIGINAL-URL:https://ujkigyos.hu
X-WR-CALDESC:Events for Újkígyós város weboldala
REFRESH-INTERVAL;VALUE=DURATION:PT1H
X-Robots-Tag:noindex
X-PUBLISHED-TTL:PT1H
BEGIN:VTIMEZONE
TZID:Europe/Paris
BEGIN:DAYLIGHT
TZOFFSETFROM:+0100
TZOFFSETTO:+0200
TZNAME:CEST
DTSTART:20260329T010000
END:DAYLIGHT
BEGIN:STANDARD
TZOFFSETFROM:+0200
TZOFFSETTO:+0100
TZNAME:CET
DTSTART:20261025T010000
END:STANDARD
END:VTIMEZONE
BEGIN:VEVENT
DTSTART;TZID=Europe/Paris:20260425T090000
DTEND;TZID=Europe/Paris:20260425T170000
DTSTAMP:20260425T013331
CREATED:20260202T135254Z
LAST-MODIFIED:20260227T140712Z
UID:11309-1777107600-1777136400@ujkigyos.hu
SUMMARY:Sakkverseny
DESCRIPTION:Az Újkígyósi Nagycsaládosok Közhasznú Egyesülete 2025-ben szervezte meg I. Amatőr Sakkversenyét a művelődési házban. \nA nagy érdeklődésre való tekintettel\, a szervezők idén is megrendezik a versenyt. 2026-ban is két kategóriában lehet majd jelentkezni: felnőtt és ifjúsági. \nMindenkit szeretettel várnak!
URL:https://ujkigyos.hu/esemeny/sakkverseny/
LOCATION:Petőfi Sándor Művelődési Ház\, Arany János u. 42.\, Újkígyós\, 5661\, Hungary
ATTACH;FMTTYPE=image/jpeg:https://ujkigyos.hu/wp-content/uploads/2026/02/493316108_689054470170630_5784376527682804538_n.jpg
ORGANIZER;CN="%C3%9Ajk%C3%ADgy%C3%B3si Nagycsal%C3%A1dosok K%C3%B6zhaszn%C3%BA Egyes%C3%BClete":MAILTO:szebelledi.zoltan@bekesmegye.hu
END:VEVENT
END:VCALENDAR