BEGIN:VCALENDAR
VERSION:2.0
PRODID:-//Újkígyós város weboldala - ECPv6.10.1//NONSGML v1.0//EN
CALSCALE:GREGORIAN
METHOD:PUBLISH
X-WR-CALNAME:Újkígyós város weboldala
X-ORIGINAL-URL:https://ujkigyos.hu
X-WR-CALDESC:Events for Újkígyós város weboldala
REFRESH-INTERVAL;VALUE=DURATION:PT1H
X-Robots-Tag:noindex
X-PUBLISHED-TTL:PT1H
BEGIN:VTIMEZONE
TZID:Europe/Paris
BEGIN:DAYLIGHT
TZOFFSETFROM:+0100
TZOFFSETTO:+0200
TZNAME:CEST
DTSTART:20250330T010000
END:DAYLIGHT
BEGIN:STANDARD
TZOFFSETFROM:+0200
TZOFFSETTO:+0100
TZNAME:CET
DTSTART:20251026T010000
END:STANDARD
END:VTIMEZONE
BEGIN:VEVENT
DTSTART;TZID=Europe/Paris:20250301T160000
DTEND;TZID=Europe/Paris:20250301T220000
DTSTAMP:20260424T172226
CREATED:20250211T084413Z
LAST-MODIFIED:20250310T133054Z
UID:10218-1740844800-1740866400@ujkigyos.hu
SUMMARY:Farsangi Táncház
DESCRIPTION:Az Összefogás Újkígyósért Közhasznú Egyesület 2025. március 1-jén 16 órától Farsangi Galiba\nTáncházat szervez\, házigazda a Galiba Néptáncegyüttes.\nLesz tánc és daltanítás\, gyermekjátszó\, kézműveskedés\, jelmezes felvonulás\, farsangi fánk és\ntermészetesen tombola.\nHelyszín: Petőfi Sándor Művelődési Ház. Újkígyós\, Arany János u. 42.\nSzeretettel várjuk az érdeklődőket!
URL:https://ujkigyos.hu/event/farsangi-tanchaz/
LOCATION:Petőfi Sándor Művelődési Ház\, Arany János u. 42.\, Újkígyós\, 5661\, Hungary
ATTACH;FMTTYPE=image/png:https://ujkigyos.hu/wp-content/uploads/2025/02/Kepernyofoto-2025-02-11-9.49.59.png
END:VEVENT
BEGIN:VEVENT
DTSTART;TZID=Europe/Paris:20250315T100000
DTEND;TZID=Europe/Paris:20250315T130000
DTSTAMP:20260424T172226
CREATED:20250312T074808Z
LAST-MODIFIED:20250315T132110Z
UID:10373-1742032800-1742043600@ujkigyos.hu
SUMMARY:Március 15. ünnepség
DESCRIPTION:
URL:https://ujkigyos.hu/esemeny/marcius-15-unnepseg/
LOCATION:Békés
ATTACH;FMTTYPE=image/jpeg:https://ujkigyos.hu/wp-content/uploads/2025/03/56770495_4197731_89c50923df00564bad44f083b4c21d94_wm.jpg
END:VEVENT
BEGIN:VEVENT
DTSTART;TZID=Europe/Paris:20250315T190000
DTEND;TZID=Europe/Paris:20250315T235900
DTSTAMP:20260424T172226
CREATED:20250211T143915Z
LAST-MODIFIED:20250315T132131Z
UID:10236-1742065200-1742083140@ujkigyos.hu
SUMMARY:Tavaszi zenés mulatság Sztojka Attilával
DESCRIPTION:Kedves Újkígyósiak és környékbeliek! \nSzeretettel várunk mindenkit egy fergeteges tavaszi zenés mulatságra\, ahol Sztojka Attila gondoskodik az egész estés élő zenéről! \nMenü: \n • Welcome drink\n • Csirkeragu leves\n• Betyáros\, sajttal-sonkával\, gombával töltött rántott sertés szelet\n• Rizi-bizi\n• Csalamádé \nRészvételi díj: 5 000 Ft/fő \nA jegyek elővételben megvásárolhatók a Park Étteremben. \nTombola felajánlásokat elfogadunk! \nNe hagyja ki ezt a különleges estét\, ahol finom ételek\, jó társaság és kiváló zene vár mindenkit!
URL:https://ujkigyos.hu/esemeny/tavaszi-zenes-mulatsag-sztojka-attilaval/
LOCATION:Park étterem\, Arany János utca 43\, Újkígyós\, 5661\, Hungary
ATTACH;FMTTYPE=image/png:https://ujkigyos.hu/wp-content/uploads/2025/02/Kepernyofoto-2025-02-11-15.38.52.png
END:VEVENT
BEGIN:VEVENT
DTSTART;TZID=Europe/Paris:20250322T100000
DTEND;TZID=Europe/Paris:20250322T130000
DTSTAMP:20260424T172226
CREATED:20250224T093052Z
LAST-MODIFIED:20250324T102518Z
UID:10288-1742637600-1742648400@ujkigyos.hu
SUMMARY:Hagyományos tojásdíszítő technikák
DESCRIPTION:Újraéledő Hagyományaink – Hagyományos tojásdíszítő technikák \nHagyományos tojásdíszítő technikákkal\nismerkedhetnek meg az érdeklődők (írókás és berzseléses tojásdíszítés). A program részét képezi egy rövid előadás a hagyományos díszítő technikákról\, majd Szabadkainé Harangozó Ildikó\, a tavalyi tojásdíszítő verseny első helyezettje mutatja be az általa alkalmazott díszítési módokat\, amit a résztvevők is megtanulhatnak. Meghívott vendég: Békés Megyei Népművészeti Egyesület
URL:https://ujkigyos.hu/esemeny/ujraeledo-hagyomanyaink-hagyomanyos-tojasdiszito-technikak/
LOCATION:Petőfi Sándor Művelődési Ház\, Arany János u. 42.\, Újkígyós\, 5661\, Hungary
ATTACH;FMTTYPE=image/jpeg:https://ujkigyos.hu/wp-content/uploads/2025/02/tojasfestes.jpg
ORGANIZER;CN="'%C3%96sszefog%C3%A1s %C3%9Ajk%C3%ADgy%C3%B3s%C3%A9rt' K%C3%B6zhaszn%C3%BA Egyes%C3%BClet":MAILTO:osszefogasujkigyosert2008@gmail.com
END:VEVENT
BEGIN:VEVENT
DTSTART;TZID=Europe/Paris:20250329T190000
DTEND;TZID=Europe/Paris:20250329T190000
DTSTAMP:20260424T172226
CREATED:20250224T093155Z
LAST-MODIFIED:20250401T082653Z
UID:10291-1743274800-1743274800@ujkigyos.hu
SUMMARY:"Föld órája" Érdekes zenés\, gyertyafényes este
DESCRIPTION:
URL:https://ujkigyos.hu/esemeny/fold-oraja-erdekes-zenes-gyertyafenyes-este/
LOCATION:Petőfi Sándor Művelődési Ház\, Arany János u. 42.\, Újkígyós\, 5661\, Hungary
ATTACH;FMTTYPE=image/jpeg:https://ujkigyos.hu/wp-content/uploads/2025/02/Meghivo-Fold-Oraja-2025_page-0001.jpg
ORGANIZER;CN="'%C3%96sszefog%C3%A1s %C3%9Ajk%C3%ADgy%C3%B3s%C3%A9rt' K%C3%B6zhaszn%C3%BA Egyes%C3%BClet":MAILTO:osszefogasujkigyosert2008@gmail.com
END:VEVENT
END:VCALENDAR