BEGIN:VCALENDAR
VERSION:2.0
PRODID:-//Újkígyós város weboldala - ECPv6.10.1//NONSGML v1.0//EN
CALSCALE:GREGORIAN
METHOD:PUBLISH
X-ORIGINAL-URL:https://ujkigyos.hu
X-WR-CALDESC:Events for Újkígyós város weboldala
REFRESH-INTERVAL;VALUE=DURATION:PT1H
X-Robots-Tag:noindex
X-PUBLISHED-TTL:PT1H
BEGIN:VTIMEZONE
TZID:Europe/Paris
BEGIN:DAYLIGHT
TZOFFSETFROM:+0100
TZOFFSETTO:+0200
TZNAME:CEST
DTSTART:20250330T010000
END:DAYLIGHT
BEGIN:STANDARD
TZOFFSETFROM:+0200
TZOFFSETTO:+0100
TZNAME:CET
DTSTART:20251026T010000
END:STANDARD
END:VTIMEZONE
BEGIN:VEVENT
DTSTART;VALUE=DATE:20250501
DTEND;VALUE=DATE:20250502
DTSTAMP:20260424T143624
CREATED:20250224T093723Z
LAST-MODIFIED:20250508T190320Z
UID:10303-1746057600-1746143999@ujkigyos.hu
SUMMARY:Fáklyás Felvonulás és Civil Majális
DESCRIPTION:Újkígyós városa 2025-ben is színes programokkal várja a lakosságot április 30-án és május 1-jén. A hagyományos fáklyás felvonulás látványos tűzzsonglőr műsorral\, tábortűzzel és retro partyval indul a Majális előestéjén. Május 1-jén egész napos Civil Majálisra kerül sor\, ahol a helyi közösségek bemutatói\, kézműves foglalkozások\, gyermekprogramok\, tűzoltóautó\, ugrálóvár és sok más szórakoztató elem várja a látogatókat. A programokhoz ingyenes étkeztetés is kapcsolódik\, a délben kiosztott pörkölt és toroskáposzta formájában. Az eseményt számos civil szervezet és helyi vállalkozás támogatja\, közösségi összefogással életre keltve a majális szellemét.
URL:https://ujkigyos.hu/esemeny/majalis/
LOCATION:Petőfi Sándor Művelődési Ház\, Arany János u. 42.\, Újkígyós\, 5661\, Hungary
ATTACH;FMTTYPE=image/png:https://ujkigyos.hu/wp-content/uploads/2025/02/ChatGPT-Image-2025.-apr.-25.-13_59_27.png
END:VEVENT
BEGIN:VEVENT
DTSTART;VALUE=DATE:20250524
DTEND;VALUE=DATE:20250526
DTSTAMP:20260424T143624
CREATED:20250224T092210Z
LAST-MODIFIED:20250326T140329Z
UID:10279-1748044800-1748217599@ujkigyos.hu
SUMMARY:Újkígyósi lovasnapok
DESCRIPTION:Május 24-25-én megrendezésre kerül a hagyományos Újkígyósi lovasnapok mely 2024-ben kibővült a városi gyereknappal. A gyereknap szombati napon lesz megtartva amelyen más civil szervezetekkel összefogva számtalan ingyenes programmal várunk minden kilátogató. Közben a maraton hajtás lesz délután látható a lovaspálya maratonakadályaiban este élőzenés mulatsággal zárjuk a napot. Vasárnap egész nap a lovaké a főszerep megyei és regionális fogathajtó bajnokság kerül lebonyolításra. Kirakodóvásár és ugrálóvár továbbra is várja a gyereket és a kilátogató vendégek. Mindkét nap büfé üzemel és finom bográcsos ételekkel várjuk a kilátogatókat. \nAz esemény mindkét nap ingyenesen látogatható!
URL:https://ujkigyos.hu/esemeny/ujkigyosi-lovasnapok-es-gyereknap/
LOCATION:Sportpálya\, Kossuth utca 2\, Újkígyós\, 5661\, Hungary
ATTACH;FMTTYPE=image/jpeg:https://ujkigyos.hu/wp-content/uploads/2025/02/442508688_8286351671388696_3859040671926650793_n.jpg
ORGANIZER;CN="Aranykal%C3%A1sz Lovas Club":MAILTO:csabigazda@gmail.hu
END:VEVENT
BEGIN:VEVENT
DTSTART;TZID=Europe/Paris:20250524T110000
DTEND;TZID=Europe/Paris:20250524T140000
DTSTAMP:20260424T143624
CREATED:20250224T091155Z
LAST-MODIFIED:20250224T091556Z
UID:10266-1748084400-1748095200@ujkigyos.hu
SUMMARY:Nosztalgia Bál
DESCRIPTION:Jelentkezési határidő: 2025.05.18-ig\n(programismertetőt később kerül feltöltésre)
URL:https://ujkigyos.hu/esemeny/nosztalgia-bal/
LOCATION:Soproni Söröző és Étterem\, Gyulai út 51\, Újkígyós\, 5661\, Hungary
ATTACH;FMTTYPE=image/jpeg:https://ujkigyos.hu/wp-content/uploads/2025/02/Nosztalgia-bal_20250524.jpg
END:VEVENT
BEGIN:VEVENT
DTSTART;VALUE=DATE:20250530
DTEND;VALUE=DATE:20250531
DTSTAMP:20260424T143624
CREATED:20250224T093901Z
LAST-MODIFIED:20250224T093901Z
UID:10305-1748563200-1748649599@ujkigyos.hu
SUMMARY:Aszakkör kiállítás megnyitó
DESCRIPTION:Újraéledő Hagyományaink – Aszakkör kiállítás megnyitó \nAz “Összefogás Újkígyósért” Közhasznú Egyesület és a Múltidéző Egyesület szakköreinek megnyitója. 2024-ben kapcsolódott mindkét egyesület a Nemzeti Művelődési Intézet programjához\, ezzel négy hagyományos kézműves tevékenység indult el a városban: Baba-mama horgolás\, Bútorfestő szakkör\, Gyöngyfűzés és Kosárfonás. A szakkörök elkészült termékeiből szervez akét egyesület egy közös kiállítást.
URL:https://ujkigyos.hu/esemeny/aszakkor-kiallitas-megnyito/
LOCATION:Újkígyósi Petőfi Sándor Könyvtár\, Arany János u. 47\, Újkígyós\, 5661\, Hungary
ATTACH;FMTTYPE=image/jpeg:https://ujkigyos.hu/wp-content/uploads/2021/01/ujkdef.jpg
ORGANIZER;CN="'%C3%96sszefog%C3%A1s %C3%9Ajk%C3%ADgy%C3%B3s%C3%A9rt' K%C3%B6zhaszn%C3%BA Egyes%C3%BClet":MAILTO:osszefogasujkigyosert2008@gmail.com
END:VEVENT
END:VCALENDAR