BEGIN:VCALENDAR
VERSION:2.0
PRODID:-//Újkígyós város weboldala - ECPv6.10.1//NONSGML v1.0//EN
CALSCALE:GREGORIAN
METHOD:PUBLISH
X-ORIGINAL-URL:https://ujkigyos.hu
X-WR-CALDESC:Events for Újkígyós város weboldala
REFRESH-INTERVAL;VALUE=DURATION:PT1H
X-Robots-Tag:noindex
X-PUBLISHED-TTL:PT1H
BEGIN:VTIMEZONE
TZID:Europe/Paris
BEGIN:DAYLIGHT
TZOFFSETFROM:+0100
TZOFFSETTO:+0200
TZNAME:CEST
DTSTART:20250330T010000
END:DAYLIGHT
BEGIN:STANDARD
TZOFFSETFROM:+0200
TZOFFSETTO:+0100
TZNAME:CET
DTSTART:20251026T010000
END:STANDARD
END:VTIMEZONE
BEGIN:VEVENT
DTSTART;VALUE=DATE:20250614
DTEND;VALUE=DATE:20250615
DTSTAMP:20260424T131443
CREATED:20250325T160510Z
LAST-MODIFIED:20250606T095333Z
UID:10462-1749859200-1749945599@ujkigyos.hu
SUMMARY:XV. Újkígyósi Galiba Napok és Kézműves Fesztivál
DESCRIPTION:
URL:https://ujkigyos.hu/esemeny/xv-ujkigyosi-galiba-napok-es-kezmuves-fesztival/
LOCATION:Petőfi Sándor Művelődési Ház\, Arany János u. 42.\, Újkígyós\, 5661\, Hungary
ATTACH;FMTTYPE=image/jpeg:https://ujkigyos.hu/wp-content/uploads/2021/01/ujkdef.jpg
END:VEVENT
BEGIN:VEVENT
DTSTART;VALUE=DATE:20250623
DTEND;VALUE=DATE:20250628
DTSTAMP:20260424T131443
CREATED:20250224T094003Z
LAST-MODIFIED:20250623T082427Z
UID:10307-1750636800-1751068799@ujkigyos.hu
SUMMARY:Galiba Népművészeti Tábor
DESCRIPTION:Nyári napközis komplex népművészeti tábor általános iskolásaink számára\, melyben hangsúlyos szerepet kap a népművészet\, de természetesen számos más szabadidős tevékenység is. (Néptánc\, népi játék\, népzene\, népi ének\, lovaglás\, lovaskocsikázás\, strandolás\, vetélkedők\, mozidélután.
URL:https://ujkigyos.hu/esemeny/galiba-nepmuveszeti-tabor/
LOCATION:Petőfi Sándor Művelődési Ház\, Arany János u. 42.\, Újkígyós\, 5661\, Hungary
ATTACH;FMTTYPE=image/jpeg:https://ujkigyos.hu/wp-content/uploads/2025/02/II.-Galiba-Nepmuveszeti-Tabor-plakat.jpg
ORGANIZER;CN="'%C3%96sszefog%C3%A1s %C3%9Ajk%C3%ADgy%C3%B3s%C3%A9rt' K%C3%B6zhaszn%C3%BA Egyes%C3%BClet":MAILTO:osszefogasujkigyosert2008@gmail.com
END:VEVENT
BEGIN:VEVENT
DTSTART;TZID=Europe/Paris:20250623T190000
DTEND;TZID=Europe/Paris:20250623T213000
DTSTAMP:20260424T131443
CREATED:20250620T113057Z
LAST-MODIFIED:20250620T113057Z
UID:10631-1750705200-1750714200@ujkigyos.hu
SUMMARY:Tűzugrás
DESCRIPTION:Az” Összefogás Újkígyósért” Közhasznú Egyesület és a Galiba Néptáncegyüttes\n2025. június 23-án hétfőn\, 19 órától szeretettel vár minden érdeklődőt a Szent Iván Éji Tűzugrásra\,\nmely egyben a II. Galiba Népművészeti Tábor hivatalos\, de barátságos megnyitója is.\n\nHelyszíne: Petőfi Sándor Művelődési Ház\, 5661 Újkígyós\, Arany János u. 42.\n\nA rendezvény ingyenes\, batyus!\n“Ha gyüttök lösztök\, ha hoztok ösztök!”
URL:https://ujkigyos.hu/esemeny/tuzugras/
LOCATION:Petőfi Sándor Művelődési Ház\, Arany János u. 42.\, Újkígyós\, 5661\, Hungary
ATTACH;FMTTYPE=image/jpeg:https://ujkigyos.hu/wp-content/uploads/2025/06/Szent-Ivan-Eji-Tuzugras-Plakat_jav.jpg
ORGANIZER;CN="'%C3%96sszefog%C3%A1s %C3%9Ajk%C3%ADgy%C3%B3s%C3%A9rt' K%C3%B6zhaszn%C3%BA Egyes%C3%BClet":MAILTO:osszefogasujkigyosert2008@gmail.com
END:VEVENT
END:VCALENDAR