BEGIN:VCALENDAR
VERSION:2.0
PRODID:-//Újkígyós város weboldala - ECPv6.10.1//NONSGML v1.0//EN
CALSCALE:GREGORIAN
METHOD:PUBLISH
X-ORIGINAL-URL:https://ujkigyos.hu
X-WR-CALDESC:Events for Újkígyós város weboldala
REFRESH-INTERVAL;VALUE=DURATION:PT1H
X-Robots-Tag:noindex
X-PUBLISHED-TTL:PT1H
BEGIN:VTIMEZONE
TZID:Europe/Paris
BEGIN:DAYLIGHT
TZOFFSETFROM:+0100
TZOFFSETTO:+0200
TZNAME:CEST
DTSTART:20250330T010000
END:DAYLIGHT
BEGIN:STANDARD
TZOFFSETFROM:+0200
TZOFFSETTO:+0100
TZNAME:CET
DTSTART:20251026T010000
END:STANDARD
END:VTIMEZONE
BEGIN:VEVENT
DTSTART;TZID=Europe/Paris:20250913T180000
DTEND;TZID=Europe/Paris:20250913T220000
DTSTAMP:20260424T092109
CREATED:20250829T075659Z
LAST-MODIFIED:20250912T120323Z
UID:10702-1757786400-1757800800@ujkigyos.hu
SUMMARY:Mága Zoltán és vendégei koncert - Szerencsekoncertek
DESCRIPTION: A Hatoslottó bemutatja: Szerencsekoncertek Idén egy különleges\, ingyenes eseménysorozat vár rád: országszerte több mint 80 településre visszük el a koncertélményt!\nÚjkígyóson Mága Zoltán és vendégei fognak felejthetetlen hangulatot varázsolni a kilátogatóknak.\n Újkígyós\, Wenckheim park\, 2025. szeptember 13. 18:00 A belépés ingyenes!\n Amit ígérünk:ÉlőzeneKülönleges hangulat Egy este\, ahol minden a zenéről és a jókedvről szól További részletek: https://szerencsekoncertek.hu 
URL:https://ujkigyos.hu/esemeny/maga-zoltan-es-vendegei-koncert-szerencsekoncertek/
LOCATION:Wenckheim park\, Wenckheim park\, Újkígyós\, Békés\, 5661\, Hungary
ATTACH;FMTTYPE=image/jpeg:https://ujkigyos.hu/wp-content/uploads/2025/08/538328906_122102776004992094_4285591556727935842_n.jpg
END:VEVENT
BEGIN:VEVENT
DTSTART;VALUE=DATE:20250914
DTEND;VALUE=DATE:20250915
DTSTAMP:20260424T092109
CREATED:20250910T110330Z
LAST-MODIFIED:20250910T110330Z
UID:10728-1757808000-1757894399@ujkigyos.hu
SUMMARY:Mária-napi búcsú és kirakodóvásár Újkígyóson
DESCRIPTION:Szeretettel várunk mindenkit a hagyományos Mária-napi búcsúi kirakodóvásárra 2025. szeptember 14-én\, vasárnap! \nA vásári forgatagban árusok sokasága\, finomságok és kézműves portékák várják a látogatókat\, a gyerekeknek pedig a megszokott módon vidámpark üzemel majd a Piactér zöldterületén (Gyulai út 655. hrsz.). \nA rendezvény idején a Gyulai út az Arany János utca és az Ady Endre utca között lezárásra kerül\, így a vásár zavartalanul tud zajlani. \n👉 Jegyezzék fel a dátumot\, és jöjjenek el családdal\, barátokkal – töltsünk együtt egy vidám\, közösségi napot!
URL:https://ujkigyos.hu/esemeny/maria-napi-bucsu-es-kirakodovasar-ujkigyoson/
LOCATION:Gyulai úti Piac tér\, Gyulai út 24.\, Újkígyós\, 5661\, Hungary
ATTACH;FMTTYPE=image/jpeg:https://ujkigyos.hu/wp-content/uploads/2021/01/ujkdef.jpg
END:VEVENT
BEGIN:VEVENT
DTSTART;VALUE=DATE:20250920
DTEND;VALUE=DATE:20250921
DTSTAMP:20260424T092109
CREATED:20250911T130422Z
LAST-MODIFIED:20250912T122743Z
UID:10750-1758326400-1758412799@ujkigyos.hu
SUMMARY:Őszköszöntő családi nap és közösségi szilvalekvárfőzés
DESCRIPTION:Az Újkígyósi Nagycsaládosok Közhasznú Egyesülete szeretettel vár mindenkit 2025. szeptember 20-án a Művelődési Ház melletti Wenkheim parkban megrendezésre kerülő  Őszköszöntő családi napra. \nA rendezvény keretében idén először készül el az Újkígyósi Nagycsaládosok szilvalekvárja\, amelyet nagy üstben\, a szabad ég alatt főznek. Az elkészült befőttek jótékony célokat szolgálnak majd. \nProgramok: \n08:00: Közösségi szilvalekvárfőzés \n14:00: Kézműves foglalkozások\, régi hagyományok felelevenítése: mustkészítés\, csigatészta pödrés\, tarhonyakészítés és sok más érdekesség \n17:00: Közös\, batyus szalonnasütés \nA szervezők mindenkit szeretettel várnak egy jó hangulatú családias napra! \n!
URL:https://ujkigyos.hu/esemeny/oszkoszonto-csaladi-nap-es-kozossegi-szilvalekvarfozes/
LOCATION:Petőfi Sándor Művelődési Ház\, Arany János u. 42.\, Újkígyós\, 5661\, Hungary
ATTACH;FMTTYPE=image/jpeg:https://ujkigyos.hu/wp-content/uploads/2025/09/39467573_3b0479da7a367f3e233bc85a3b3e3dfe_wm.jpg
ORGANIZER;CN="%C3%9Ajk%C3%ADgy%C3%B3si Nagycsal%C3%A1dosok K%C3%B6zhaszn%C3%BA Egyes%C3%BClete":MAILTO:szebelledi.zoltan@bekesmegye.hu
END:VEVENT
BEGIN:VEVENT
DTSTART;TZID=Europe/Paris:20250928T140000
DTEND;TZID=Europe/Paris:20250928T200000
DTSTAMP:20260424T092109
CREATED:20250910T114201Z
LAST-MODIFIED:20251002T111808Z
UID:10730-1759068000-1759089600@ujkigyos.hu
SUMMARY:Szüreti forgatag
DESCRIPTION:Szeptember 28-án\, vasárnap 14:00 és 19:00 óra között ismét megrendezésre kerül a hagyományőrző Szüreti Forgatag az Újkígyósi Petőfi Sándor Művelődési Házban és a Wenckheim parkban. \nA nap folyamán színes programok várják a látogatókat: szüreti felvonulás\, néptánc- és zenés előadások\, íjászbemutató\, szőlőtaposás\, mustkóstolás\, valamint kézműves foglalkozások\, lovaglás és játszóház a gyerekeknek. \nA rendezvény ideje alatt finom ételek és italok is kaphatók\, a bevételt a város karácsonyi világításának fejlesztésére fordítják. \n👉 Jöjjön el családjával\, barátaival\, és élje át a szüreti hagyományok hangulatát Újkígyóson! \n  \n 
URL:https://ujkigyos.hu/esemeny/szureti-forgatag/
LOCATION:Petőfi Sándor Művelődési Ház\, Arany János u. 42.\, Újkígyós\, 5661\, Hungary
ATTACH;FMTTYPE=image/jpeg:https://ujkigyos.hu/wp-content/uploads/2025/09/Szureti-Forgatag-UK-esemenyek.jpg
ORGANIZER;CN="'%C3%96sszefog%C3%A1s %C3%9Ajk%C3%ADgy%C3%B3s%C3%A9rt' K%C3%B6zhaszn%C3%BA Egyes%C3%BClet":MAILTO:osszefogasujkigyosert2008@gmail.com
END:VEVENT
END:VCALENDAR